BEGIN:VCALENDAR
VERSION:2.0
PRODID:-//RIGHTHERE//CALENDARIZE IT V3.2//EN
BEGIN:VTIMEZONE
TZID:America/New_York
X-MICROSOFT-CDO-TZID:10
BEGIN:STANDARD
DTSTART:20251102T060000
TZOFFSETFROM:-0400
TZOFFSETTO:-0500
TZNAME:EST
END:STANDARD
BEGIN:DAYLIGHT
DTSTART:20260308T070000
TZOFFSETFROM:-0500
TZOFFSETTO:-0400
TZNAME:EDT
END:DAYLIGHT
BEGIN:STANDARD
DTSTART:20261101T060000
TZOFFSETFROM:-0400
TZOFFSETTO:-0500
TZNAME:EST
END:STANDARD
END:VTIMEZONE
BEGIN:VEVENT
UID:616-events@aachats.org
DTSTART;TZID=America/New_York:20250414T140000
DTEND;TZID=America/New_York:20250414T150000
DTSTAMP;TZID=America/New_York:20250407T181934
SUMMARY:Monday Eurovision Big Book Voice Meeting
RRULE:FREQ=WEEKLY;INTERVAL=1
URL:https://aachats.org/events/monday-eurovision-big-book-meeting/
LOCATION:AA Chats
END:VEVENT
END:VCALENDAR